BEGIN:VCALENDAR
VERSION:2.0
PRODID:-//eventon.com NONSGML v1.0//EN
BEGIN:VEVENT
UID:69e4d15592bbf
DTSTAMP:20260419T125757
DTSTART:20150501
DTEND:20150503
TZID:UTC
LOCATION:Queen Mary 1126 Queens Highway Long Beach\,  CA 90802 United States
SUMMARY:LA Zouk Congress
DESCRIPTION: Los Angeles Zouk Congress. For more information visit www.lazoukcongress.com\nhttp://zoukology.com/events/la-zouk-congress/
URL:http://zoukology.com/events/la-zouk-congress/
END:VEVENT
END:VCALENDAR